BEGIN:VCALENDAR
VERSION:2.0
PRODID:-//IlluminAge WordPress Calendar Plugin//
CALSCALE:GREGORIAN
METHOD:PUBLISH
X-WR-CALNAME:American Indian Health Commission
X-WR-CALDESC:
X-FROM-URL:https://aihc-wa.com
BEGIN:VEVENT
URL:https://aihc-wa.com/npaihb-weekly-meeting-7/
UID:https://aihc-wa.com/npaihb-weekly-meeting-7/
DTSTAMP:20260423T043834Z
DTSTART: 20250225T180000Z
DTEND: 20250225T190000Z
SUMMARY:NPAIHB Weekly Meeting
CONTACT:NPAIHB
LOCATION:Zoom - , 
END:VEVENT
END:VCALENDAR